Workbook

Sheet FN - diasp
C2: CASH-FLOW
B3: Nr. crt. | C3: Explicaţii / an | D3: AN 2018 | E3: AN 2019 | F3: AN 2020
B4: I | C4: Sold iniţial disponibil (casă şi bancă) | D4: 2000 | E4: =D31 -> 86220.6 | F4: =E31 -> 94592.6
B5: A | C5: Intrări de lichidităţi (1+2+3+4) | D5: =SUM(D6:D9) -> 306597 | E5: =SUM(E6:E9) -> 151200 | F5: =SUM(F6:F9) -> 178920
B6: 1 | C6: din vânzări | D6: =venituri!O14 -> 132930 | E6: =venituri!P14 -> 151200 | F6: =venituri!Q14 -> 178920
B7: 2 | C7: din credite primite
B8: 3 | C8: alte intrări de numerar (aport propriu, etc.)
B9: 4 | C9: Alocaţie Financiară nerambursabilă | D9: =investitia!C66 -> 173667
C10: Total disponibil (I+A) | D10: =D4+D5 -> 308597 | E10: =E4+E5 -> 237420.6 | F10: =F4+F5 -> 273512.6
B11: B | C11: Utilizari numerar din exploatare | D11: =SUM(D12:D19) -> 128926.4 | E11: =SUM(E12:E19) -> 142828 | F11: =SUM(F12:F19) -> 153794.8
B12: 1 | C12: Cheltuieli cu materii prime şi materiale consumabile aferente activităţii desfaşurate | D12: ='SCV - diasp'!C8 -> 15951.6 | E12: ='SCV - diasp'!D8 -> 18144 | F12: ='SCV - diasp'!E8 -> 21470.4
B13: 2 | C13: Salarii (inclusiv cheltuielile aferente) | D13: ='SCV - diasp'!C9 -> 64428 | E13: ='SCV - diasp'!D9 -> 73632 | F13: ='SCV - diasp'!E9 -> 80995.2
B14: 3 | C14: Chirii | D14: ='SCV - diasp'!C12 -> 0 | E14: ='SCV - diasp'!D12 -> 0 | F14: ='SCV - diasp'!E12 -> 0
B15: 4 | C15: Utilităţi | D15: ='SCV - diasp'!C13 -> 16500 | E15: ='SCV - diasp'!D13 -> 20500 | F15: ='SCV - diasp'!E13 -> 20500
B16: 5 | C16: Costuri funcţionare birou, Cheltuieli de marketing, Servicii cu terţii, Reparaţii/Întreţinere | D16: ='SCV - diasp'!C14 -> 13700 | E16: ='SCV - diasp'!D14 -> 10400 | F16: ='SCV - diasp'!E14 -> 10400
B17: 6 | C17: Asigurări | D17: ='SCV - diasp'!C15 -> 1500 | E17: ='SCV - diasp'!D15 -> 0 | F17: ='SCV - diasp'!E15 -> 0
B18: 7 | C18: Impozite, taxe şi vărsăminte asimilate | D18: ='SCV - diasp'!C16 -> 1329.3 | E18: ='SCV - diasp'!D16 -> 1512 | F18: ='SCV - diasp'!E16 -> 1789.2
B19: 8 | C19: Alte cheltuieli | D19: ='SCV - diasp'!C17 -> 15517.5 | E19: ='SCV - diasp'!D17 -> 18640 | F19: ='SCV - diasp'!E17 -> 18640
B20: C | C20: Cheltuieli pentru investiţii (Valoarea totală a proiectului) | D20: =investitia!C57+investitia!C58 -> 93450 | E20: 0 | F20: 0
B21: D | C21: Credite
C22: rambursări rate de credit scadente
C23: dobânzi şi comisioane
B24: E | C24: Plăţi/încasări pentru impozite şi taxe (1-2+3)
B25: 1 | C25: Plăţi TVA
B26: 2 | C26: Rambursări TVA
B27: 3 | C27: Impozit pe profit/cifră de afaceri
B28: F | C28: Dividende
B29: G | C29: Total utilizări numerar (B+C+D+E+F) | D29: =D11+D20+D21+D24+D28 -> 222376.4 | E29: =E11+E20+E21+E24+E28 -> 142828 | F29: =F11+F20+F21+F24+F28 -> 153794.8
B30: H | C30: Flux net de lichidităţi (A-G) | D30: =D5-D29 -> 84220.6 | E30: =E5-E29 -> 8372 | F30: =F5-F29 -> 25125.2
B31: II | C31: Sold final disponibil (I+H) | D31: =D30+D4 -> 86220.6 | E31: =E30+E4 -> 94592.6 | F31: =F30+F4 -> 119717.8

Sheet SCV - diasp
A2: CONTUL DE PROFIT ȘI PIERDERE PRESCURTAT
C3: AN 2019 | D3: AN 2020 | E3: AN 2021
A4: 1 | B4: 1. Cifra de afaceri netă
A5: 2 | B5: VENITURI DIN EXPLOATARE | C5: =venituri!O14 -> 132930 | D5: =venituri!P14 -> 151200 | E5: =venituri!Q14 -> 178920
A6: 3 | B6: Alte venituri din exploatare | C6: 0 | D6: 0 | E6: 0
A7: 4 | B7: VENITURI DIN EXPLOATARE – TOTAL rd.2+3 | C7: =SUM(C5:C6) -> 132930 | D7: =SUM(D5:D6) -> 151200 | E7: =SUM(E5:E6) -> 178920
A8: 5 | B8: Cheltuieli cu materii prime/marfuri şi materiale consumabile aferente activităţii desfaşurate | C8: =cheltuieli!N5+cheltuieli!N6 -> 15951.6 | D8: =cheltuieli!O5+cheltuieli!O6 -> 18144 | E8: =cheltuieli!P5+cheltuieli!P6 -> 21470.4
A9: 6 | B9: Salarii (inclusiv cheltuielile aferente) | C9: =cheltuieli!N7 -> 64428 | D9: =cheltuieli!O7 -> 73632 | E9: =cheltuieli!P7 -> 80995.2
B10: Salarii nete | C10: =C9*57.2% -> 36852.816 | D10: =D9*57.2% -> 42117.504 | E10: =E9*57.2% -> 46329.254
B11: Cheltuieli cu salariile | C11: =C9*42.8% -> 27575.184 | D11: =D9*42.8% -> 31514.496 | E11: =E9*42.8% -> 34665.946
A12: 7 | B12: Chirii | C12: =cheltuieli!N20 -> 0 | D12: =cheltuieli!O20 -> 0 | E12: =cheltuieli!P20 -> 0
A13: 8 | B13: Utilităţi si cheltuieli de transport | C13: =cheltuieli!N8+cheltuieli!N10 -> 16500 | D13: =cheltuieli!O8+cheltuieli!O10 -> 20500 | E13: =cheltuieli!P8+cheltuieli!P10 -> 20500
A14: 9 | B14: Costuri funcţionare birou, Cheltuieli de marketing, Reparaţii/Întreţinere | C14: =cheltuieli!N14+cheltuieli!N15+cheltuieli!N17+cheltuieli!N18 -> 13700 | D14: =cheltuieli!O14+cheltuieli!O15+cheltuieli!O17+cheltuieli!O18 -> 10400 | E14: =cheltuieli!P14+cheltuieli!P15+cheltuieli!P17+cheltuieli!P18 -> 10400
A15: 10 | B15: Asigurări | C15: =cheltuieli!N19 -> 1500 | D15: =cheltuieli!O19 -> 0 | E15: =cheltuieli!P19 -> 0
A16: 11 | B16: Impozite, taxe şi vărsăminte asimilate, Impozitul pe profit | C16: =1%*C7 -> 1329.3 | D16: =1%*D7 -> 1512 | E16: =1%*E7 -> 1789.2
A17: 12 | B17: Alte cheltuieli ( amortizare si ch cu ob de inventar) | C17: =cheltuieli!J23+cheltuieli!N22 -> 15517.5 | D17: =cheltuieli!K23+cheltuieli!O22 -> 18640 | E17: =cheltuieli!L23+cheltuieli!P22 -> 18640
A18: 13 | B18: TOTAL CHELTUIELI( RD.5-12) | C18: =C8+C9+C12+C13+C14+C15+C16+C17 -> 128926.4 | D18: =D8+D9+D12+D13+D14+D15+D16+D17 -> 142828 | E18: =E8+E9+E12+E13+E14+E15+E16+E17 -> 153794.8
A19: 14 | B19: PROFITUL SAU PIERDEREA DIN EXPLOATARE:
A20: 15 | B20: Profit ( RD.4-13) | C20: =C7-C18 -> 4003.6 | D20: =D7-D18 -> 8372 | E20: =E7-E18 -> 25125.2 | G20: Obiectiv | H20: An 2019 | I20: An 2020 | J20: An 2021
A21: 16 | B21: Pierdere (RD.13-4) | G21: Venituri Totale | H21: =C7 -> 132930 | I21: =D7 -> 151200 | J21: =E7 -> 178920
A22: 17 | B22: VENITURI FINANCIARE – TOTAL | C22: 0 | G22: Cheltuieli Totale | H22: =C18 -> 128926.4 | I22: =D18 -> 142828 | J22: =E18 -> 153794.8
A23: 18 | B23: CHELTUIELI FINANCIARE - TOTAL | C23: 0 | G23: Profit/Pierdere | H23: =H21-H22 -> 4003.6 | I23: =I21-I22 -> 8372 | J23: =J21-J22 -> 25125.2
A24: 19 | B24: PROFITUL SAU PIERDEREA FINANCIAR(Ă) (RD,17-18) | C24: =C22-C23 -> 0 | D24: =D22-D23 -> 0 | E24: =E22-E23 -> 0 | G24: Numar angajati | H24: 2 | I24: 2 | J24: 2
A25: 20 | B25: VENITURI TOTALE (RD.4+17) | C25: =C22+C7 -> 132930 | D25: =D22+D7 -> 151200 | E25: =E22+E7 -> 178920 | H25: An 2019 | I25: An 2020 | J25: An 2021
A26: 21 | B26: CHELTUIELI TOTALE (RD,13+18) | C26: =C18+C23 -> 128926.4 | D26: =D18+D23 -> 142828 | E26: =E18+E23 -> 153794.8 | G26: marja de profit | H26: =H23/H21 -> 0.030118107 | I26: =I23/I21 -> 0.05537037 | J26: =J23/J21 -> 0.14042701
A27: 22 | B27: 18. PROFITUL SAU PIERDEREA BRUT(Ă):
A28: 23 | B28: Profit ( Rd,20-21) | C28: =C25-C26 -> 4003.6 | D28: =D25-D26 -> 8372 | E28: =E25-E26 -> 25125.2
A29: 24 | B29: Pierdere (rd.21-20)
B32: Se completeaza in LEI FARA ZECIMALE
B33: UNDE NU SUNT COSTURI VA RUGAM SA INTRODUCETI 0
B34: NU SE COMPLTEAZA pentru ca se fac calcule automat

Sheet an 1
Q1: =4000*57.2% -> 2288
Q2: =4000-Q1 -> 1712
B3: COSTURI ACCEPTATE LA FINANTARE - previziune 12 luni | Q3: =P5-Q5 -> 0
D4: Luna 1 | E4: Luna 2 | F4: Luna 3 | G4: Luna 4 | H4: Luna 5 | I4: Luna 6 | J4: Luna 7 | K4: Luna 8 | L4: Luna 9 | M4: Luna 10 | N4: Luna 11 | O4: Luna 12 | P4: total anul inv | Q4: corelare cu planul de afaceri | R4: Justificare sume / oferte piata
B5: 1. Cheltuieli cu salariile personalului nou-angajat | D5: =D6+D12+D15 -> 3068 | E5: =E6+E12+E15 -> 3068 | F5: =F6+F12+F15 -> 3068 | G5: =G6+G12+G15 -> 6136 | H5: =H6+H12+H15 -> 6136 | I5: =I6+I12+I15 -> 6136 | J5: =J6+J12+J15 -> 6136 | K5: =K6+K12+K15 -> 6136 | ... O5: =O6+O12+O15 -> 6136 | P5: =SUM(D5:O5) -> 64428 | Q5: =SUM(Q7:Q17) -> 64428
B6: 1.1. Cheltuieli salariale NETE | D6: =D7+D8+D9+D10+D11 -> 1774 | E6: =E7+E8+E9+E10+E11 -> 1774 | F6: =F7+F8+F9+F10+F11 -> 1774 | G6: =G7+G8+G9+G10+G11 -> 3548 | H6: =H7+H8+H9+H10+H11 -> 3548 | I6: =I7+I8+I9+I10+I11 -> 3548 | J6: =J7+J8+J9+J10+J11 -> 3548 | K6: =K7+K8+K9+K10+K11 -> 3548 | ... O6: =O7+O8+O9+O10+O11 -> 3548 | P6: =SUM(D6:O6) -> 37254
B7: Salariat 1 | D7: 1774 | E7: =D7 -> 1774 | F7: =E7 -> 1774 | G7: =F7 -> 1774 | H7: =G7 -> 1774 | I7: =H7 -> 1774 | J7: =I7 -> 1774 | K7: =J7 -> 1774 | L7: =K7 -> 1774 | ... O7: =N7 -> 1774 | P7: =SUM(D7:O7) -> 21288 | Q7: =O7*12 -> 21288
B8: Salariat 2 | D8: 0 | E8: 0 | F8: 0 | G8: 1774 | H8: =G8 -> 1774 | I8: =H8 -> 1774 | J8: =I8 -> 1774 | K8: =J8 -> 1774 | L8: =K8 -> 1774 | M8: =L8 -> 1774 | N8: =M8 -> 1774 | O8: =N8 -> 1774 | P8: =SUM(D8:O8) -> 15966 | Q8: =O8*9 -> 15966
B9: Salariat 3 | P9: =SUM(D9:O9) -> 0
B10: Salariat 4
B11: Salariat 5
B12: 1.2 Onorarii/ venituri asimilate salariilor pentru experți proprii/ cooptați | D12: =D13+D14 -> 0 | E12: =E13+E14 -> 0 | F12: =F13+F14 -> 0 | G12: =G13+G14 -> 0 | H12: =H13+H14 -> 0 | I12: =I13+I14 -> 0 | J12: =J13+J14 -> 0 | K12: =K13+K14 -> 0 | ... O12: =O13+O14 -> 0 | P12: =SUM(D12:O12) -> 0
B13: Expert cooptat | D13: 0 | P13: =SUM(D13:O13) -> 0
B14: Expert cooptat | D14: 0 | E14: =D14 -> 0 | F14: =E14 -> 0 | G14: =F14 -> 0 | H14: =G14 -> 0 | I14: =H14 -> 0 | J14: =I14 -> 0 | K14: =J14 -> 0 | L14: =K14 -> 0 | ... O14: =N14 -> 0 | P14: =SUM(D14:O14) -> 0
B15: 1.3. Contribuţii sociale aferente cheltuielilor salariale şi cheltuielilor asimilate acestora (contribuţii angajaţi şi angajatori) | D15: =SUM(D16:D20) -> 1294 | E15: =SUM(E16:E20) -> 1294 | F15: =SUM(F16:F20) -> 1294 | G15: =SUM(G16:G20) -> 2588 | H15: =SUM(H16:H20) -> 2588 | I15: =SUM(I16:I20) -> 2588 | J15: =SUM(J16:J20) -> 2588 | K15: =SUM(K16:K20) -> 2588 | ... O15: =SUM(O16:O20) -> 2588 | P15: =SUM(D15:O15) -> 27174
B16: Salariat 1 | D16: 1294 | E16: =D16 -> 1294 | F16: =E16 -> 1294 | G16: =F16 -> 1294 | H16: =G16 -> 1294 | I16: =H16 -> 1294 | J16: =I16 -> 1294 | K16: =J16 -> 1294 | L16: =K16 -> 1294 | ... O16: =N16 -> 1294 | P16: =SUM(D16:O16) -> 15528 | Q16: =O16*12 -> 15528
B17: Salariat 2 | G17: 1294 | H17: =G17 -> 1294 | I17: =H17 -> 1294 | J17: =I17 -> 1294 | K17: =J17 -> 1294 | L17: =K17 -> 1294 | M17: =L17 -> 1294 | N17: =M17 -> 1294 | O17: =N17 -> 1294 | P17: =SUM(D17:O17) -> 11646 | Q17: =O17*9 -> 11646
B18: Salariat 3 | P18: =SUM(D18:O18) -> 0
B19: Salariat 4 | P19: =SUM(D19:O19) -> 0
B20: Salariat 5 | P20: =SUM(D20:O20) -> 0
P21: =SUM(D21:O21) -> 0
B22: 2. Cheltuieli cu deplasarea personalului întreprinderilor nou-înfiinţate: | D22: =D23+D27+D31+D35 -> 0 | E22: 0 | F22: 0 | G22: 0 | H22: 0 | I22: 0 | J22: 0 | K22: 0 | L22: 0 | M22: 0 | N22: 0 | O22: 0
B23: 2.1 Cheltuieli pentru cazare | D23: =SUM(D24:D25) -> 0 | E23: =SUM(E24:E25) -> 0 | F23: =SUM(F24:F25) -> 0 | G23: =SUM(G24:G25) -> 0 | H23: =SUM(H24:H25) -> 0 | I23: =SUM(I24:I25) -> 0 | J23: =SUM(J24:J25) -> 0 | K23: =SUM(K24:K25) -> 0 | ... O23: =SUM(O24:O25) -> 0 | P23: =SUM(D23:O23) -> 0
B24: cazare 1 | P24: =SUM(D24:O24) -> 0
B25: Cazare 2 | P25: =SUM(D25:O25) -> 0
P26: =SUM(D26:O26) -> 0
B27: 2.2 Cheltuieli cu diurna personalului propriu | D27: =SUM(D28:D29) -> 0 | E27: =SUM(E28:E29) -> 0 | F27: =SUM(F28:F29) -> 0 | G27: =SUM(G28:G29) -> 0 | H27: =SUM(H28:H29) -> 0 | I27: =SUM(I28:I29) -> 0 | J27: =SUM(J28:J29) -> 0 | K27: =SUM(K28:K29) -> 0 | ... O27: =SUM(O28:O29) -> 0 | P27: =SUM(D27:O27) -> 0
B28: Diurna Personal 1 | P28: =SUM(D28:O28) -> 0
B29: Diurna Personal 2 | P29: =SUM(D29:O29) -> 0
P30: =SUM(D30:O30) -> 0
B31: 2.3 Cheltuieli pentru transportul persoanelor (inclusiv transportul efectuat cu mijloacele de transport în comun sau taxi, gară, autogară sau port şi locul delegării ori locul de cazare, precum şi transportul efectuat pe distanța dintre locul de cazare şi locul delegării) | D31: =SUM(D32:D33) -> 0 | E31: =SUM(E32:E33) -> 0 | F31: =SUM(F32:F33) -> 0 | G31: =SUM(G32:G33) -> 1500 | H31: =SUM(H32:H33) -> 1500 | I31: =SUM(I32:I33) -> 1500 | J31: =SUM(J32:J33) -> 1500 | K31: =SUM(K32:K33) -> 1500 | ... O31: =SUM(O32:O33) -> 1500 | P31: =SUM(D31:O31) -> 13500
B32: Cheltuieli Transport combustibil | G32: =cheltuieli!K8/3 -> 1500 | H32: =G32 -> 1500 | I32: =H32 -> 1500 | J32: =cheltuieli!L8/3 -> 1500 | K32: =J32 -> 1500 | L32: =K32 -> 1500 | M32: =cheltuieli!M8/3 -> 1500 | N32: =M32 -> 1500 | O32: =N32 -> 1500 | P32: =SUM(D32:O32) -> 13500
B33: Cheltuieli Transport 2 | P33: =SUM(D33:O33) -> 0
P34: =SUM(D34:O34) -> 0
B35: 2.4 Taxe şi asigurări de călătorie și asigurări medicale aferente deplasării CASCO | D35: 0 | E35: 0 | F35: =cheltuieli!J10 -> 3000 | G35: 0 | H35: 0 | I35: 0 | J35: 0 | K35: 0 | L35: 0 | M35: 0 | N35: 0 | O35: 0 | P35: =SUM(D35:O35) -> 3000
P36: =SUM(D36:O36) -> 0
B37: 3. Cheltuieli aferente diverselor achiziţii de servicii specializate, pentru care beneficiarul ajutorului de minimis nu are expertiza necesară | D37: =SUM(D38:D41) -> 2125 | E37: =SUM(E38:E41) -> 3625 | F37: =SUM(F38:F41) -> 625 | G37: =SUM(G38:G41) -> 625 | H37: =SUM(H38:H41) -> 625 | I37: =SUM(I38:I41) -> 625 | J37: =SUM(J38:J41) -> 625 | K37: =SUM(K38:K41) -> 625 | ... O37: =SUM(O38:O41) -> 625 | P37: =SUM(D37:O37) -> 12000
B38: Servicii specializate contabilitatea | D38: 625 | E38: =D38 -> 625 | F38: =E38 -> 625 | G38: =F38 -> 625 | H38: =G38 -> 625 | I38: =H38 -> 625 | J38: =I38 -> 625 | K38: =J38 -> 625 | L38: =K38 -> 625 | ... O38: =N38 -> 625 | P38: =SUM(D38:O38) -> 7500
B39: Servicii specializate juridic | D39: =investitia!C52 -> 1500 | P39: =SUM(D39:O39) -> 1500
B40: Servicii specializate tehnologie (securizare si autorizare) | E40: =investitia!C53+investitia!C54 -> 3000 | P40: =SUM(E40:O40) -> 3000
...

Sheet investitia
B3: Investitia amortizabila (descriere detaliata) | C3: Pret unitar (Lei) Inclusiv TVA | D3: Nr. Unitati | E3: Valoare Totala (lei) | F3: Perioada de amortizare (ani) | K3: Cheltuieli cu amortizarea mijloacelor fixe aferente investitiei
B4: I.Active corporale cu valoare unitara mai mare de 2500 lei ( TVA inclus) | K4: I. Investitia - Active corporale | L4: Valoare Totala (lei) | M4: Perioada de amortizare(ani) | N4: Anul I Trim 1 | O4: Anul I Trim 2 | P4: Anul I Trim 3 | Q4: Anul I Trim 4 | R4: Total Anul 1 | S4: Anul II | T4: Anul III
B5: I. 1. Masini si echipamente de Productie/ Prestari servicii | D5: =SUM(D6:D10) -> 3 | E5: =SUM(E6:E10) -> 87450 | F5: 5 | K5: =B5 -> I. 1. Masini si echipamente de Productie/ Prestari servicii | L5: =E5 -> 87450 | M5: 5 | N5: 0 | O5: =L5/5/4 -> 4372.5 | P5: =O5 -> 4372.5 | Q5: =P5 -> 4372.5 | R5: =SUM(N5:Q5) -> 13117.5 | S5: =L5/M5 -> 17490 | T5: =S5 -> 17490
B6: masina de traport echipamente spalatorie mobila | C6: =11500*4.7 -> 54050 | D6: 1 | E6: =C6*D6 -> 54050 | K6: =B11 -> I.2. Echipamente IT | L6: =E11 -> 3000 | M6: 3 | O6: =L6/M6/4 -> 250 | P6: =O6 -> 250 | Q6: =P6 -> 250 | R6: =SUM(N6:Q6) -> 750 | S6: =L6/M6 -> 1000 | T6: =S6 -> 1000
B7: aparat se spalat cu abur | C7: 24000 | D7: 1 | E7: =C7*D7 -> 24000 | K7: =B17 -> I. 3. Mobilier | L7: =E17 -> 3000 | M7: 5 | N7: 0 | O7: =L7/M7/4 -> 150 | P7: =O7 -> 150 | Q7: =P7 -> 150 | R7: =SUM(N7:Q7) -> 450 | S7: =L7/M7/4 -> 150 | T7: =S7 -> 150
B8: aspirator de spalat cu spuma | C8: =2000*4.7 -> 9400 | D8: 1 | E8: =C8*D8 -> 9400 | K8: Total Amorizare Active corporale | L8: =SUM(L5:L7) -> 93450 | N8: =SUM(N5:N7) -> 0 | O8: =SUM(O5:O7) -> 4772.5 | P8: =SUM(P5:P7) -> 4772.5 | Q8: =SUM(Q5:Q7) -> 4772.5 | R8: =SUM(R5:R7) -> 14317.5 | S8: =SUM(S5:S7) -> 18640 | T8: =SUM(T5:T7) -> 18640
E9: =C9*D9 -> 0 | K9: =B23 -> II. Investitia - Active necorporale | L9: Valoare Totala (lei) | M9: Perioada de amortizare(ani) | N9: Anul I Trim 1 | O9: Anul I Trim 2 | P9: Anul I Trim 3 | Q9: Anul I Trim 4 | R9: Total Anul 1 | S9: Anul II - Trim 1 | T9: Anul II - Trim 2
E10: =C10*D10 -> 0 | K10: =B25 -> II.1.Programe de calculator | L10: =E25 -> 0 | M10: =F25 -> 3 | O10: =L10/M10/4 -> 0 | P10: =O10 -> 0 | Q10: =P10 -> 0 | R10: =SUM(N10:Q10) -> 0 | S10: =L10/M10 -> 0 | T10: =S10 -> 0
B11: I.2. Echipamente IT | D11: =SUM(D12:D16) -> 1 | E11: =SUM(E12:E16) -> 3000 | F11: 3 | K11: =B27 -> II.2. Marci brevete | L11: =E27 -> 0 | M11: =F27 -> 0 | P11: =O11 -> 0 | Q11: =P11 -> 0 | R11: =SUM(N11:Q11) -> 0 | S11: =Q11 -> 0 | T11: =S11 -> 0
B12: calculator desktop ecran si tastatura, imprimanta | C12: 3000 | D12: 1 | E12: =C12*D12 -> 3000 | K12: =B28 -> II.3 Alte active necorporale | L12: =E28 -> 0 | M12: 3 | O12: =L12/M12/4 -> 0 | P12: =O12 -> 0 | Q12: =P12 -> 0 | R12: =SUM(N12:Q12) -> 0 | S12: =Q12 -> 0
E13: =C13*D13 -> 0 | K13: Total Cheltuieli de amortizare Active Necorporale | L13: =SUM(L10:L12) -> 0 | N13: =SUM(N10:N12) -> 0 | O13: =SUM(O10:O12) -> 0 | P13: =SUM(P10:P12) -> 0 | Q13: =SUM(Q10:Q12) -> 0 | R13: =SUM(R10:R12) -> 0 | S13: =SUM(S10:S12) -> 0 | T13: =SUM(T10:T12) -> 0
E14: =C14*D14 -> 0 | K14: Total Cheltuieli cu amortizare active | L14: =L8+L13 -> 93450 | M14: =M8+M13 -> 0 | N14: =N8+N13 -> 0 | O14: =O8+O13 -> 4772.5 | P14: =P8+P13 -> 4772.5 | Q14: =Q8+Q13 -> 4772.5 | R14: =R8+R13 -> 14317.5 | S14: =S8+S13 -> 18640 | T14: =T8+T13 -> 18640
E15: =C15*D15 -> 0
B17: I. 3. Mobilier | D17: =SUM(D18:D20) -> 1 | E17: =SUM(E18:E20) -> 3000 | F17: 5
B18: maobilier depozit/ birou/ sala de productie | C18: 3000 | D18: 1 | E18: =C18*D18 -> 3000
E19: =C19*D19 -> 0
E20: 0
B21: Total investitie in active corporale amortizabila | C21: Valoare (lei) | E21: =E5+E11+E17 -> 93450
B23: II. Investitia - Active necorporale | C23: Pret unitar (Lei) Inclusiv TVA | D23: Nr. Unitati | E23: Valoare Totala (lei) | F23: Perioada de amortizare (ani)
B24: II. Investitia - Active necorporale cu valoare unitara mai mare de 2500 lei ( TVA inclus)
B25: II.1.Programe de calculator | D25: =SUM(D26:D26) -> 1 | E25: =E26 -> 0 | F25: 3
B26: licent windos/ program de management stocuri si comenzi | D26: 1 | E26: =C26*D26 -> 0
B27: II.2. Marci brevete
B28: II.3 Alte active necorporale
B30: Total investitie in active necorporale amortizabila | C30: Valoare (lei) | D30: 1 | E30: =E25+E27+E28 -> 0
B32: III. Obiecte de inventar ( valoare achizitie <2500 lei TVA inclus) | C32: Pret Unitar (Lei) | D32: Nr. Unitati | E32: Valoare Totala (lei)
B33: casa de marcat | C33: 1200 | D33: 1 | E33: =C33*D33 -> 1200
E34: =C34*D34 -> 0
E35: =C35*D35 -> 0
E36: =C36*D36 -> 0
E37: =C37*D37 -> 0 | K37: 0
E38: =C38*D38 -> 0
E39: =C39*D39 -> 0
B40: Total Cheltuieli cu obiectele de inventar | E40: =SUM(E33:E39) -> 1200
B42: IV. Amanenajari spatii de Productie /Prestari servicii/Comert | C42: Pret Unitar (Lei) | D42: Nr. Unitati | E42: Valoare Totala (lei)
B43: Amenajate spatii productie | D43: 1 | E43: =C43*D43 -> 0
E44: =C44*D44 -> 0
E45: =C45*D45 -> 0
E46: =C46*D46 -> 0
E47: =C47*D47 -> 0
...

Sheet venituri
F2: =30*20 -> 600 | G2: 7.5 | H2: 6 | I2: =(F2*G2)/100*H2 -> 270
B3: ESTIMAREA VENITURILOR
B4: Valoare Vanzari - Produs( lei/sortiment)/ perioada | D4: Cantitate ( nr. unitati produs/serviciu) | J4: Preț unitar mediu (lei/mp) | K4: an 1 | O4: Total an 1 | P4: an2 | Q4: An3 | V4: Valoarea vanzarilor/ produs/serviciu/an ca procent din volumul maxim al vanzarilor estimat pe an
D5: an 1 trim 1 | E5: an 1 trim 2 | F5: an 1 trim 3 | G5: an 1 trim 4 | H5: an 2 | I5: an 3 | K5: =D5 -> an 1 trim 1 | L5: =E5 -> an 1 trim 2 | M5: =F5 -> an 1 trim 3 | N5: =G5 -> an 1 trim 4 | W5: A1 tr1 | X5: A1 tr2 | Y5: A1 tr3 | Z5: A1 tr4 | AA5: An 2 | AB5: An 3
B6: 1 | C6: Pachet complet spalat masina interior si exterior, motor si roti | E6: =2*21*3 -> 126 | F6: =3*21*3 -> 189 | G6: =E6 -> 126 | H6: =G6*4 -> 504 | I6: =F6*4 -> 756 | J6: 110 | K6: =D6*J6 -> 0 | L6: =E6*J6 -> 13860 | M6: =F6*J6 -> 20790 | N6: =G6*J6 -> 13860 | O6: =SUM(K6:N6) -> 48510 | P6: =H6*J6 -> 55440 | Q6: =I6*J6 -> 83160 | R6: =O6/O14 -> 0.36492891 | V6: =C6 -> Pachet complet spalat masina interior si exterior, motor si roti | W6: =K6 -> 0 | X6: =L6 -> 13860 | Y6: =M6 -> 20790 | Z6: =N6 -> 13860 | AA6: =O6 -> 48510 | AB6: =P6 -> 55440
B7: 2 | C7: Spalat masina exterior | E7: =3*21*3 -> 189 | F7: =E7 -> 189 | G7: =E7 -> 189 | H7: =G7*4 -> 756 | I7: =F7*4 -> 756 | J7: 40 | K7: =D7*$J$7 -> 0 | L7: =E7*J7 -> 7560 | M7: =F7*J7 -> 7560 | N7: =G7*J7 -> 7560 | O7: =SUM(K7:N7) -> 22680 | P7: =H7*J7 -> 30240 | Q7: =I7*J7 -> 30240 | R7: =O7/O14 -> 0.17061611 | V7: =C7 -> Spalat masina exterior | W7: =K7 -> 0 | X7: =L7 -> 7560 | Y7: =M7 -> 7560 | Z7: =N7 -> 7560 | AA7: =O7 -> 22680 | AB7: =P7 -> 30240
B8: 3 | C8: Spalat si curatit masina interior | E8: =3*21*3 -> 189 | F8: =5*21*3 -> 315 | G8: =E8 -> 189 | H8: =G8*4 -> 756 | I8: =H8 -> 756 | J8: 40 | L8: =E8*J8 -> 7560 | M8: =F8*J8 -> 12600 | N8: =G8*J8 -> 7560 | O8: =SUM(K8:N8) -> 27720 | P8: =H8*J8 -> 30240 | Q8: =I8*J8 -> 30240 | V8: =C8 -> Spalat si curatit masina interior | W8: =K8 -> 0 | X8: =L8 -> 7560 | Y8: =M8 -> 12600 | Z8: =N8 -> 7560 | AA8: =O8 -> 27720 | AB8: =P8 -> 30240
C9: Spalat motor | E9: =2*21*3 -> 126 | F9: =E9 -> 126 | G9: =E9 -> 126 | H9: =G9*4 -> 504 | I9: =F9*4 -> 504 | J9: 20 | L9: =E9*J9 -> 2520 | M9: =F9*J9 -> 2520 | N9: =G9*J9 -> 2520 | O9: =SUM(K9:N9) -> 7560 | P9: =H9*J9 -> 10080 | Q9: =I9*J9 -> 10080
C10: Degresat roti | E10: =2*21*3 -> 126 | F10: =E10 -> 126 | G10: =E10 -> 126 | H10: =G10*4 -> 504 | I10: =F10*4 -> 504 | J10: 5 | L10: =E10*J10 -> 630 | M10: =F10*J10 -> 630 | N10: =G10*J10 -> 630 | O10: =SUM(K10:N10) -> 1890 | P10: =H10*J10 -> 2520 | Q10: =I10*J10 -> 2520
C11: Spalat /curatat tapiterie | E11: =2*21*3 -> 126 | F11: =5*21*3 -> 315 | G11: =E11 -> 126 | H11: =G11*4 -> 504 | I11: =H11 -> 504 | J11: 40 | L11: =E11*J11 -> 5040 | M11: =F11*J11 -> 12600 | N11: =G11*J11 -> 5040 | O11: =SUM(K11:N11) -> 22680 | P11: =H11*J11 -> 20160 | Q11: =I11*J11 -> 20160
B12: 4 | C12: Pulverizat ceara | E12: =2*21*3 -> 126 | F12: =E12 -> 126 | G12: =E12 -> 126 | H12: =G12*4 -> 504 | I12: =F12*4 -> 504 | J12: 5 | L12: =E12*J12 -> 630 | M12: =F12*J12 -> 630 | N12: =G12*J12 -> 630 | O12: =SUM(K12:N12) -> 1890 | P12: =H12*J12 -> 2520 | Q12: =I12*J12 -> 2520 | V12: =C12 -> Pulverizat ceara | W12: =K12 -> 0 | X12: =L12 -> 630 | Y12: =M12 -> 630 | Z12: =N12 -> 630 | AA12: =P12 -> 2520 | AB12: =Q12 -> 2520
B13: Total numar clienti | D13: =SUM(E6:G12) -> 3402 | H13: =SUM(H6:H12) -> 4032 | I13: =SUM(I6:I12) -> 4284
B14: Total cifra de afaceri ( lei) | J14: NA | K14: =SUM(K6:K13) -> 0 | L14: =SUM(L6:L13) -> 37800 | M14: =SUM(M6:M13) -> 57330 | N14: =SUM(N6:N13) -> 37800 | O14: =SUM(O6:O13) -> 132930 | P14: =SUM(P6:P13) -> 151200 | Q14: =SUM(Q6:Q13) -> 178920
B15: Total cifra de afaceri ( Euro) Rata de schimb 4.66 lei/euro | J15: 4.4585 | K15: =K14/$J$15 -> 0 | L15: =L14/$J$15 -> 8478.1877 | M15: =M14/$J$15 -> 12858.585 | N15: =N14/$J$15 -> 8478.1877 | O15: =O14/$J$15 -> 29814.96 | P15: =P14/$J$15 -> 33912.751 | Q15: =Q14/$J$15 -> 40130.089 | R15: =P15+Q15+Q15+Q15 -> 154303.02
K17: =I2/J6 -> 2.4545455 | O17: =O6/$O$14 -> 0.36492891
O18: =O7/$O$14 -> 0.17061611
O19: =O13/$O$14 -> 0
O20: =O14/$O$14 -> 1

Sheet cheltuieli
J1: =1059/I7 -> #DIV/0!
A2: Cheltuieli de exploatare anuale (operaţionale)
A3: Cheltuieli de producţie directe | C3: Cantitate/ Nr. Salariati | I3: PU (lei) | J3: An 1 | N3: An 1 Total | O3: An2 | P3: An 3
C4: A1tr1 | D4: A1tr2 | E4: A1tr3 | F4: A1tr4 | G4: A2tr1 | H4: A2tr2 | J4: tr 1 | K4: tr 2 | L4: tr 3 | M4: tr 4
A5: 1 | B5: Materi prime: detergent | I5: 0.1 | J5: =10%*venituri!K14 -> 0 | K5: =10%*venituri!L14 -> 3780 | L5: =10%*venituri!M14 -> 5733 | M5: =10%*venituri!N14 -> 3780 | N5: =10%*venituri!O14 -> 13293 | O5: =10%*venituri!P14 -> 15120 | P5: =10%*venituri!Q14 -> 17892
A6: 2 | B6: Materiale auxiliare: ceara | I6: 0.02 | J6: =2%*venituri!K14 -> 0 | K6: =2%*venituri!L14 -> 756 | L6: =2%*venituri!M14 -> 1146.6 | M6: =2%*venituri!N14 -> 756 | N6: =2%*venituri!O14 -> 2658.6 | O6: =2%*venituri!P14 -> 3024 | P6: =2%*venituri!Q14 -> 3578.4
A7: 3 | B7: Cheltuieli cu salarii ( manopera directa: salarii nete, inclusiv taxe şi contribuţii sociale si contributie firma); 2 angajati din care 3042 lei net 1774 lei si 1294 taxe | C7: 1 | D7: 2 | E7: 2 | F7: 2 | G7: 2 | H7: 2 | I7: 0 | J7: =3*3068 -> 9204 | K7: =3068*2*3 -> 18408 | L7: =K7 -> 18408 | M7: =L7 -> 18408 | N7: =SUM(J7:M7) -> 64428 | O7: =M7*4 -> 73632 | P7: =O7*110% -> 80995.2 | Q7: =N7/N25 -> 0.50493311 | T7: 3500
A8: 4 | B8: Utilitati punct de lucru: transport echipamente la locatia de prestare servicii | I8: 1500 lei/luna | K8: =1500*3 -> 4500 | L8: =K8 -> 4500 | M8: =L8 -> 4500 | N8: =SUM(J8:M8) -> 13500 | O8: =1500*12 -> 18000 | P8: =O8 -> 18000 | T8: 2500
A9: 5 | B9: Subansamble/piese de schimb | J9: 0 | N9: =SUM(J9:M9) -> 0 | T9: 1
A10: 7 | B10: Asigurari | J10: 3000 | N10: =SUM(J10:M10) -> 3000 | O10: 2500 | P10: 2500 | Q10: =N10/N25 -> 0.023511506
A11: 8 | B11: Alte cheltuieli directe(detaliaţi)
B12: Total cheltuieli directe | J12: =SUM(J5:J11) -> 12204 | K12: =SUM(K5:K11) -> 27444 | L12: =SUM(L5:L11) -> 29787.6 | M12: =SUM(M5:M11) -> 27444 | N12: =SUM(N5:N11) -> 96879.6 | O12: =SUM(O5:O11) -> 112276 | P12: =SUM(P5:P11) -> 122965.6 | Q12: =N12/N25 -> 0.75926177
A13: Cheltuieli de producţie indirecte
A14: 1 | B14: Contabilitate servicii specializare de contabilitate | I14: 625 lei luna - Sv. Contabilitate; | J14: =625*3 -> 1875 | K14: =(2500*3)/4 -> 1875 | L14: =K14 -> 1875 | M14: =L14 -> 1875 | N14: =SUM(J14:M14) -> 7500 | O14: =400*12 -> 4800 | P14: =400*12 -> 4800
A15: 2 | B15: Cheltuieli de Birou/ Consumabile 100 lei/luna | I15: papetarie, tonner, formulare | K15: =100*3 -> 300 | L15: =K15 -> 300 | M15: =L15 -> 300 | N15: =SUM(J15:M15) -> 900 | O15: =100*12 -> 1200 | P15: =O15 -> 1200
A16: 3 | B16: Cheltuieli de deplasare/delegatii | I16: incluse in ch cu transportul
A17: 4 | B17: Cheltuieli de Marketing si Promovare - realizare pagina Web/ mentenanta website firma, participari la evenimente specifice | I17: conform bugetului de marketing | J17: 2000 | K17: 500 | L17: 500 | M17: 500 | N17: =SUM(J17:M17) -> 3500 | O17: 2000 | P17: 2000
A18: 5 | B18: Utilitati birou/ sediu social: Energie electrica, apa, energie termica, telefon si internet | I18: 200 lei/luna | K18: =200*3 -> 600 | L18: =K18 -> 600 | M18: =L18 -> 600 | N18: =SUM(J18:M18) -> 1800 | O18: =M18*4 -> 2400 | P18: =O18 -> 2400
A19: 6 | B19: Servicii sau lucrări subcontractate: amenajari, securizare spatiu, cheltuieli juridice de infiintare | I19: ch de infiintare | J19: =investitia!E52 -> 1500 | N19: =SUM(J19:M19) -> 1500
A20: 7 | B20: Chirie punct de lucru | I20: punct de lucru mobil | Q20: =P20/12 -> 0
A21: 8 | B21: Cheltuieli de leasing fara achizitie
B22: Alte cheltuieli indirecte(detaliaţi) - amortizare investitie | I22: amortizare totala/ perioada | J22: =investitia!N14 -> 0 | K22: =investitia!O14 -> 4772.5 | L22: =investitia!P14 -> 4772.5 | M22: =investitia!Q14 -> 4772.5 | N22: =investitia!R14 -> 14317.5 | O22: =investitia!S14 -> 18640 | P22: =investitia!T14 -> 18640
A23: 9 | B23: Alte cheltuieli indirecte(detaliaţi) - si cheltuieli cu ob. Inventar, | I23: detaliat in descrierea investitiei si a ch. Anterioare productiei | J23: =investitia!C59 -> 1200 | N23: =J23 -> 1200
B24: Total cheltuieli indirecte | J24: =SUM(J14:J23) -> 6575 | K24: =SUM(K14:K23) -> 8047.5 | L24: =SUM(L14:L23) -> 8047.5 | M24: =SUM(M14:M23) -> 8047.5 | N24: =SUM(N14:N23) -> 30717.5 | O24: =SUM(O14:O23) -> 29040 | P24: =SUM(P14:P23) -> 29040 | Q24: =N24/N25 -> 0.24073823
A25: TOTAL CHELTUIELI | J25: =J12+J24 -> 18779 | K25: =K12+K24 -> 35491.5 | L25: =L12+L24 -> 37835.1 | M25: =M12+M24 -> 35491.5 | N25: =N12+N24 -> 127597.1 | O25: =O12+O24 -> 141316 | P25: =P12+P24 -> 152005.6 | R25: =N25+O25+P25 -> 420918.7
M28: An 2019 | N28: An 2020 | O28: An 2021 | S28: An 2019 | T28: An 2020 | U28: An 2021
L29: Ch. Directe | M29: =N12 -> 96879.6 | N29: =O12 -> 112276 | O29: =P12 -> 122965.6 | P29: =Q12 -> 0.75926177 | R29: total cheltuieli | S29: =N25 -> 127597.1 | T29: =O25 -> 141316 | U29: =P25 -> 152005.6
L30: Ch. Indirecte | M30: =N24 -> 30717.5 | N30: =O24 -> 29040 | O30: =P24 -> 29040 | P30: =Q24 -> 0.24073823
M31: =N25 -> 127597.1 | N31: =O25 -> 141316 | O31: =P25 -> 152005.6 | P31: =Q25 -> 0
M34: An 2019 | N34: An 2020 | O34: An 2021
L35: SALARII | M35: =N7 -> 64428 | N35: =O7 -> 73632 | O35: =P7 -> 80995.2
C36: An 1 | D36: An 2 | E36: An 3
C37: =M29 -> 96879.6 | D37: =N29 -> 112276 | E37: =O29 -> 122965.6
C38: =M30 -> 30717.5 | D38: =N30 -> 29040 | E38: =O30 -> 29040
C39: =M31 -> 127597.1 | D39: =N31 -> 141316 | E39: =O31 -> 152005.6
